Workbook

Sheet Sheet1
D1: 资产处置清单
A3: 序号 | B3: 资产包名称 | C3: 债务人名称 | D3: 债权本金 | E3: 担保措施 | F3: 保证人 | G3: 抵质押物 | H3: 团队长 | I3: 备注
A4: 1 | B4: 收购江苏银行深圳分行福麒珠宝等8户不良资产包项目 | C4: 深圳市福麒珠宝首饰有限公司 | D4: 10368.737 | E4: =VLOOKUP(C4,[1]分户!$E:$L,8,0) -> 保证 | F4: 深圳市荣兴（集团）股份有限公司、德润房地产开发集团有限公司、庄儒桂、庄逸鸿、庄清健、庄清鑫、深圳市荣兴华茂投资有限公司、怀化市凯诚矿业有限公司 | G4: 无 | H4: 廖诗伟
A5: 2 | B5: 收购江苏银行深圳分行福麒珠宝等8户不良资产包项目 | C5: 深圳市圣麟珠宝首饰有限公司 | D5: 5000 | E5: 保证 | F5: 深圳市德钧盛世网络科技有限公司、庄清鑫、庄儒桂、庄清健、庄素丽、德润房地产开发集团有限公司、庄逸鸿 | G5: 无 | H5: 廖诗伟
A6: 3 | B6: 收购江苏银行深圳分行福麒珠宝等8户不良资产包项目 | C6: 深圳市壮山石材有限公司 | D6: 9950.2942 | E6: 抵押+质押+保证 | F6: 深圳市远大生态文化有限公司、深圳市鸿泰宝聚投资发展有限公司、王为平（单个人）、王文杰（单个人） | G6: ①宝安区观澜街道汉士达华庭一期11栋A、B，9栋A、B共四套住宅，面积合计1508.1㎡； ②以王文杰持有的借款人深圳市壮山石材有限公司100%股权质押； | H6: 廖诗伟
A7: 4 | B7: 收购江苏银行深圳分行深圳市富安顺贸易有限公司等5户不良资产包项目 | C7: 深圳颐和酒店用品有限公司 | D7: 7500 | E7: 抵押+保证 | F7: 肖伟、周初、周煌、深圳市油富投资管理有限公 | G7: 1. 深圳市龙华区观澜街道牛湖的工业厂房一栋一层、二层、五层（3套面积合计2101㎡） 2. 福田区彩田北路翡翠名园综合楼2层办公（面积2034.08平方）3层办公（面积562.68㎡） | H7: 何剑峰
A8: 5 | B8: 收购江苏银行深圳分行深圳市富安顺贸易有限公司等5户不良资产包项目 | C8: 深圳市光正绿化有限公司 | D8: 7449.831 | E8: 抵押+保证 | F8: 潘少琳 | G8: 1.云南省西双版纳勐海县编号为海林证字（2009）第0801042000号的林权抵押，1300亩。 | H8: 何剑峰
A9: 6 | B9: 收购广发银行深圳万基药业等98户不良资产包项目 | C9: 惠州市源东钢构有限公司 | D9: 4296.0405 | E9: 抵押+保证 | F9: 陈东京、陈沿达、惠州市源东国际集团有限公司、陈木亮、惠州市源东国际商贸广场有限公司、陈俊瑾、孙琬淘 | G9: 陈俊瑾名下惠州市惠城区下埔大道10号一层之1、4、5号商场，孙琬淘名下8号商场、下埔大道10号二层之二商场，惠州市源东国际商贸广场有限公司名下下埔路10号之一第一层、第二层和第三层北面商场，总建筑面积2808.2平方米。 | H9: 何剑峰
A10: 7 | B10: 收购广发银行深圳万基药业等98户不良资产包项目 | C10: 惠州市中泰化工油料有限公司 | D10: 1573.0535 | E10: 抵押+保证 | F10: 惠州市东信集团有限公司、孙琬淘、陈柯桦及陈楚翔、陈俊瑾、程淑旁 | G10: 1、孙琬淘名下位于惠州市南新路30号家华花园C栋首层P05、06、10、11号面积合计为277.02平方米的房屋及惠州市惠沙堤1号明辉楼堤上二层01号面积为416.96平方米的商场。2、陈楚翔名下位于惠州市惠沙堤1号明辉楼堤上一层01号面积为307.06平方米的商场。 | H10: 何剑峰
A11: 8 | B11: 收购广发银行深圳万基药业等98户不良资产包项目 | C11: 惠州市友信贸易有限公司 | D11: 1266.0551 | E11: 抵押+保证 | F11: 张惠生、罗小兵、陈高南、林珊 | G11: 陈高南名下位于惠州市小金口镇青塘大树岭村A栋第一层商铺，面积1215.12平方米 | H11: 何剑峰
A12: 9 | B12: 收购广发银行深圳万基药业等98户不良资产包项目 | C12: 惠城区林木衣柜加工厂 | D12: 290 | E12: 抵押+保证 | F12: 钟林木、刘兰英，系夫妻关系 | G12: 1、提供位于惠州市麦地路30号麦雅大厦301商场，面积为259.22平方米；2、提供位于惠州市麦地路30号麦雅大厦307商场，面积为232.04平方米。 | H12: 何剑峰
A13: 10 | B13: 收购广发银行深圳万基药业等98户不良资产包项目 | C13: 惠州市家华置业发展有限公司 | D13: 1144.5451 | E13: 抵押+保证 | F13: 陈东京、惠州市佳家福购物有限公司 | G13: 借款人以名下位于惠州市科肚路1号之二“东信新苑”房地产项目的在建工程作抵押，现剩余在押状态的在建工程有：1、住宅64套，建筑面积6369平方米；2、商铺二层，面积5623平方米；3、车位：312个，面积12609平方米 | H13: 何剑峰
A14: 11 | B14: 收购广发银行深圳万基药业等98户不良资产包项目 | C14: 惠州升信电子有限公司 | D14: 285.91355 | E14: 抵押+保证 | F14: 广东荣兴控股集团有限公司、洪丽君、姜涛、李华智、隋炳和、朱文龙 | G14: 1、吴志忠名下位于博罗县罗阳镇体育大道东延段五矿.哈施塔特一期一区22栋02、面积为367.52平方米的住宅作抵押；2、惠州市展望置业发展有限公司名下位于惠州市惠城区永湖镇彩一村地段的一幅商业用地、面积为15261.00平方米。 | H14: 何剑峰
A15: 12 | B15: 收购广发银行深圳万基药业等98户不良资产包项目 | C15: 惠州市意生百货有限公司 | D15: 5000 | E15: 抵押+保证 | F15: 惠州市置信房地产开发有限公司、李蓬灿 | G15: 无 | H15: 何剑峰
A16: 13 | B16: 收购广发银行深圳万基药业等98户不良资产包项目 | C16: 惠州市成达塑胶开发有限公司 | D16: 1688.0226 | E16: 抵押+保证 | F16: 叶晓婷、陈东雄、陈东京、陈沿达及惠州市源东国际集团有限公司 | G16: 借款人提供陈雅彤（林淑慧）名下位于惠博大道388号奥林匹克花园的住宅（面积266.00平方米）、横江三路数码商业街的商场（面积合计为120.79平方米）、东湖西路168号隆生半岛广场的住宅（面积为211.42平方米）以及陈珂桦名下位于惠州市江北14号小区“光耀橙子公寓”2层01号（面积2282.99平方米）、陈东京名下位于惠州市河南岸班樟湖惠沙堤二路88号珑湖湾一期1组团5号房（面积266.60平方米）、陈沿达名下位于深圳市龙岗区龙岗镇龙河路榭丽花园1栋商铺129、深圳市宝安区西乡街道银田路玉湖湾花园1栋040（面积合计194.27平方米）、陈沿达、陈沿睿名下惠州市惠城区汝湖镇雅居乐大道1号揽翠堡19栋的房产（面积700.07平方米）作抵押 | H16: 何剑峰
... A23: 20 | B23: 收购广发银行深圳万基药业等98户不良资产包项目 | C23: 河源市亿通农林牧资源实业有限公司 | D23: 260 | E23: 抵押+保证 | F23: 程连娣，温发，温郭增锃 | G23: 程连娣名下河源市源西石坪路北一巷东66-7号住宅，建筑面积1006.3平方米 | H23: 何剑峰
A24: 21 | B24: 收购广发银行深圳万基药业等98户不良资产包项目 | C24: 河源市建曦汽车销售有限公司 | D24: 180.26835 | E24: =VLOOKUP(C24,[1]分户!$E:$L,8,0) -> 保证 | F24: 缪军胜，黄玉宁，郭利英 | G24: 无 | H24: 何剑峰
A25: 22 | B25: 收购广发银行深圳万基药业等98户不良资产包项目 | C25: 河源市海联钨制品有限公司 | D25: 1500 | E25: 抵押+保证 | F25: 欧乐良，廖道侦，陈伟雄 | G25: 河源市鸿达投资发展有限责任公司（原企业名称：广东河源鸿达企业集团）名下位于广东省河源市源城区源城区9858.20平方米商业用地土地使用权 | H25: 何剑峰
A26: 23 | B26: 收购广发银行深圳万基药业等98户不良资产包项目 | C26: 连平县东成实业发展有限公司 | D26: 1490 | E26: 抵押+保证 | F26: 黄森泉，何丽珍，邱鼎文，黄炜锋，黄少敏 | G26: 连平县东成实业发展有限公司名下位于连平县元善镇南湖村综合用地（连府国用（2008）第000267号）综合用地作抵押，面积11035平方米，目前为空置、已平整。 | H26: 何剑峰
A27: 24 | B27: 收购广发银行深圳万基药业等98户不良资产包项目 | C27: 河源市铭悦电器有限公司 | D27: 2122 | E27: 抵押+保证 | F27: 1.东源华泰建筑工程有限公司； 2.河源市源城区锦绣荣华房地产开发有限公司； 3.东源华泰建筑劳务工程有限公司； 4.8个自然人保证：陈寿鹏，黄宏欢,于春梅，袁秀华，袁嘉驰，陈奇文，陈炎妹，罗凤 | G27: 于春梅名下4套房产，具体房产为：1、河源市宝源山庄宝源一路西宝源综合楼第4卡、5-6卡一/二层商住楼，面积合计666.6平方米；2、河源市西堤路18号锦绣名雅骏逸轩101-102号、201-202房商住楼，面积501.21平方米；3、河源市东升路下沥东3-1号住宅，面积458.45平方米。追加河源市源城区锦绣荣华房地产开发有限公司名下位于河源市源城区长堤西堤路段“锦绣花园”项目部分在建工程为该笔授信作抵押担保，在押在建工程有5933.22平方米，合计40套房产。 | H27: 何剑峰
A28: 25 | B28: 收购广发银行深圳万基药业等98户不良资产包项目 | C28: 河源市骏业针织制衣有限公司 | D28: 222.15247 | E28: 抵押+保证 | F28: 赖国伟，陈雪雄，陈青强，刘立强，刘利萍，龙川县源丰针织有限公司 | G28: 1、龙川县源丰针织有限公司名下位于河源市龙川县鹤市镇鹤紫路上冯厂房1（粤房地权证鹤公字第1220140006号）、办公楼（粤房地权证鹤公字第1220140009号）、宿舍（粤房地权证鹤公字第1220140005号）、厂房2（粤房地权证鹤公字第1220140007号）、保安亭（粤房地权证鹤公字第1220140008号）、建筑物下工业用地{证号：龙府国用（转）第0019260号}，面积合计12245.93平方米。2、刘利萍名下位于河源市源城区滨江大道北288号宝豪御龙湾4栋902号房，面积132.80平方米。3、河源市骏业针织制衣有限公司名下88套机器设备。 | H28: 何剑峰
A29: 26 | B29: 收购广发银行深圳万基药业等98户不良资产包项目 | C29: 河源市东雄贸易有限公司 | D29: 1916.8951 | E29: 抵押+保证 | F29: 胡敬东，欧惠梅，郭建生 | G29: 河源市雅园物业发展有限公司名下位于河源市大同路西边文明路南边雅园大厦-大同美食城；1、A栋A305、A405、A505号商住楼，面积合计315.75平方米；2、A栋A307、A407、A507号商住楼，建筑面积316.28平方米；3、B502、B503、B504、B505、B506、B507、C栋第五层商业营业用房，建筑面积1827.96平方米；4、黄德平名下位于河源市大同路西边文明路南边雅园大厦-大同美食城B幢402、B403、B404、B405、B406、B407号商业营业用房，建筑面积2050.52平方米；5、黄新泉名下位于 河源市市区四耳桥西巷28号北边 住宅用地使用权，面积377.83平方米 。 | H29: 何剑峰
A30: 27 | B30: 收购广发银行深圳万基药业等98户不良资产包项目 | C30: 梅州淦源建材科技有限公司 | D30: 947.896 | E30: 抵押+保证 | F30: 吴小淦、吴志丽、吴小辉、吴小奎、钟权基、 | G30: 蕉岭县新铺镇北方村工业用地使用权（面积40000M²）及地上22处附件物（面积：13792.53M²） | H30: 何剑峰
A31: 28 | B31: 收购浙商银行深圳分行广森集团等6户不良资产包项目 | C31: 深圳市广森投资集团有限公司 | D31: 9300 | E31: 抵押+保证 | F31: 深圳市东银房地产开发有限公司、李森、钟帆飞 | G31: 东莞市大朗镇银朗南路289号美爵花园12号商业办公楼的370套房产 | H31: 何剑峰
A32: 29 | B32: 收购浙商银行深圳分行广森集团等6户不良资产包项目 | C32: 广东文化长城集团股份有限公司 | D32: 6696.1044 | E32: 抵押+保证 | F32: 蔡廷祥、吴淡珠 | G32: 广东文化长城集团股份有限公司名下位于潮州市枫溪区蔡陇大道长城公司D幢厂房（不动产权证号: 粤房地权证潮房字第2016038217号）、潮州市枫溪区蔡陇大道长城公司G幢生产车间（不动产权证号：粤房地权证潮房字第 2016038183号） | H32: 何剑峰
A33: 30 | B33: 收购浙商银行深圳分行广森集团等6户不良资产包项目 | C33: 深圳市建装业集团股份有限公司 | D33: 3165.8653 | E33: 保证 | F33: 深圳市建装业房地产投资有限公司、深圳市盛世中皇控股有限公司、管纪忠、刘小芳、管玉涌 | G33: 无 | H33: 何剑峰
A34: 31 | B34: 华润银行东莞贵族装饰等22户资产包 | C34: 东莞市贵族装饰工程有限公司 | D34: 246.21565 | E34: 抵押+保证 | F34: 保证人：黎润江、林建新、陈惠珠（林建新配偶） | G34: 四川省泸州市江阳区江阳中路38号楼门市5套（1层、2层） | H34: 陈国全
A35: 32 | B35: 华润银行东莞贵族装饰等22户资产包 | C35: 惠州市天合建筑有限公司 | D35: 9964.4597 | E35: 抵押+保证 | F35: 保证人：惠州市众望集团有限公司、郭耀名、光耀集团有限公司 | G35: 光耀集团公司名下位于惠州大亚湾澳头惠澳大道2号光耀海豚湾花园半地下室1号房、2号房等合计1,340.41㎡的21套房产 | H35: 陈国全
A36: 33 | B36: 华润银行东莞贵族装饰等22户资产包 | C36: 佛山市南海永华木业有限公司 | D36: 2000 | E36: =VLOOKUP(C36,[1]分户!$E:$L,8,0) -> 保证 | F36: 保证人：佛山市南海区穗成木业有限公司、广东美景林业发展有限公司、五华永华木业有限公司、紫金县东美基地林有限公司、黎志康 | G36: 无 | H36: 陈国全
A37: 34 | B37: 华润银行东莞贵族装饰等22户资产包 | C37: 广东金延能源有限公司 | D37: 10509.502 | E37: 抵押+保证 | F37: 保证人：广州时尚家居装饰材料广场有限公司、余小洁、余远霖、余秋生 | G37: 广州时尚家居装饰材料广场有限公司名下位于广州市天河区天河北路719号首层物业抵押，建筑面积1996.38平方米。 | H37: 陈国全
A38: 35 | B38: 华润银行东莞贵族装饰等22户资产包 | C38: 纵横天地电子商旅服务有限公司 | D38: 6000 | E38: =VLOOKUP(C38,[1]分户!$E:$L,8,0) -> 保证 | F38: 由广东新一代商务管理有限公司提供连带责任保证担保；由受信人股东陈泽良、黄泽华分别提供个人连带责任保证担保；由广东益民旅游休闲服务有限公司提供连带责任保证担保 | G38: 无 | H38: 陈国全
A39: 36 | B39: 信达广分广东智力宝食品等311户包 | C39: 潮州市潮安区庵埠玉皇阁音乐城 | D39: 1336.9244 | E39: 抵押+保证 | F39: 抵押人：潮安县声乐大酒店有限公司； 保证人：潮州市潮安区声乐大酒店有限公司、张翼翔、侯缨、蔡锦声、莫少梅 | G39: 抵押担保：声乐酒店第四层至六层的商业房产，建筑面积合计3379.14平方米 | H39: 廖诗伟
A40: 37 | B40: 信达广分广东智力宝食品等311户包 | C40: 潮州市潮安区信诚印刷厂 | D40: 2311.9363 | E40: 抵押+保证 | F40: 抵押人：潮安县声乐大酒店有限公司； 保证人：潮州市潮安区声乐大酒店有限公司、潘培宏、蔡丽红、蔡锦声、莫少梅 | G40: 抵押担保：声乐酒店第二至三层的商业房产，建筑面积合计3143.86平方米 | H40: 廖诗伟
A41: 38 | B41: 信达广分广东智力宝食品等311户包 | C41: 潮州市潮安区声乐大酒店有限公司 | D41: 2364.8081 | E41: 抵押+保证 | F41: 抵押人：潮安县声乐大酒店有限公司； 保证人：蔡锦声、莫少梅、杨舜卿 | G41: 抵押担保：声乐酒店用地及酒店首层，包括（1）声乐酒店名下的一宗商住用地，面积3959.33平方米；（2）声乐酒店第一层的商业房产，建筑面积1771.94平方米；（3）潮安县庵埠镇文里村民委员会名下的一宗集体用地，面积457.45平方米。 | H41: 廖诗伟
A42: 39 | B42: 信达广分广东智力宝食品等311户包 | C42: 潮州市潮安区众合园食品有限公司 | D42: 2119.2753 | E42: 抵押+保证 | F42: 抵押人：潮安县声乐大酒店有限公司； 保证人：潮州市潮安区声乐大酒店有限公司、潘孝深、林莲香、蔡锦声、莫少梅、潘图杰、潘惠芳、潘孝桐、潘伊丽 | G42: 抵押担保：声乐酒店第十至十二层的商业房产，建筑面积合计2738.26平方米 | H42: 廖诗伟
A43: 40 | B43: 信达广分广东智力宝食品等311户包 | C43: 潮州市潮安区华港印务有限公司 | D43: 2005.4424 | E43: 抵押+保证 | F43: 抵押人：潮安县声乐大酒店有限公司； 保证人：潮州市潮安区声乐大酒店有限公司、蔡锦声、莫少梅、陈炎锐、杨海心 | G43: 抵押担保：声乐酒店第七至九层的商业房产，建筑面积合计3181.38平方米 | H43: 廖诗伟
A44: 41 | B44: 信达广分广东智力宝食品等311户包 | C44: 汕头保税区佳辰发展公司 | D44: 46757.421 | E44: =VLOOKUP(C44,[1]分户!$E:$L,8,0) -> 保证 | F44: 汕头经济特区鸿兴经济发展公司 | G44: 无 | H44: 廖诗伟
A45: 42 | B45: 信达广分广东智力宝食品等311户包 | C45: 潮阳市桂光（集团）有限公司 | D45: 2772.104 | E45: =VLOOKUP(C45,[1]分户!$E:$L,8,0) -> 信用 | F45: 无 | G45: 无 | H45: 廖诗伟
A46: 43 | B46: 信达广分广东智力宝食品等311户包 | C46: 汕头市南粤经济发展总公司 | D46: 1624.4739 | E46: =VLOOKUP(C46,[1]分户!$E:$L,8,0) -> 保证 | F46: 汕头市育同住宅建设开发公司 | G46: 无 | H46: 廖诗伟
A47: 44 | B47: 收购华融前海财富景兴房地产单户不良资产项目 | C47: 广州市景兴房地产开发有限公司 | D47: 25600 | E47: 抵押+保证 | F47: 景治君、景艺晖、李巧珍 | G47: 抵押： 1、债务人名下广州市越秀区沿江西路143号“爱群·荟景湾”项目A、B塔商业、住宅、办公共11套物业，面积为7970.54㎡。 2、保证人景治君名下的位于广州市越秀区明月一路17号的“凯旋会”住宅，面积为634.04㎡。 3、保证人景艺晖名下位于明月一路19号的“凯旋会”住宅，面积为621.45㎡。 质押： 1、景兴公司现仍有773,135.38元在华融财富保证金账户中提供质押担保。 | H47: 廖诗伟
...
